BEGIN:VCALENDAR
VERSION:2.0
PRODID:-//Ward 3 Councilmember Matt Frumin - ECPv6.15.20//NONSGML v1.0//EN
CALSCALE:GREGORIAN
METHOD:PUBLISH
X-WR-CALNAME:Ward 3 Councilmember Matt Frumin
X-ORIGINAL-URL:https://mattfruminward3.com
X-WR-CALDESC:Events for Ward 3 Councilmember Matt Frumin
REFRESH-INTERVAL;VALUE=DURATION:PT1H
X-Robots-Tag:noindex
X-PUBLISHED-TTL:PT1H
BEGIN:VTIMEZONE
TZID:America/Halifax
BEGIN:DAYLIGHT
TZOFFSETFROM:-0400
TZOFFSETTO:-0300
TZNAME:ADT
DTSTART:20240310T060000
END:DAYLIGHT
BEGIN:STANDARD
TZOFFSETFROM:-0300
TZOFFSETTO:-0400
TZNAME:AST
DTSTART:20241103T050000
END:STANDARD
BEGIN:DAYLIGHT
TZOFFSETFROM:-0400
TZOFFSETTO:-0300
TZNAME:ADT
DTSTART:20250309T060000
END:DAYLIGHT
BEGIN:STANDARD
TZOFFSETFROM:-0300
TZOFFSETTO:-0400
TZNAME:AST
DTSTART:20251102T050000
END:STANDARD
BEGIN:DAYLIGHT
TZOFFSETFROM:-0400
TZOFFSETTO:-0300
TZNAME:ADT
DTSTART:20260308T060000
END:DAYLIGHT
BEGIN:STANDARD
TZOFFSETFROM:-0300
TZOFFSETTO:-0400
TZNAME:AST
DTSTART:20261101T050000
END:STANDARD
END:VTIMEZONE
BEGIN:VEVENT
DTSTART;TZID=America/Halifax:20250427T090000
DTEND;TZID=America/Halifax:20250427T130000
DTSTAMP:20260421T084701
CREATED:20250423T192412Z
LAST-MODIFIED:20250425T123339Z
UID:1910-1745744400-1745758800@mattfruminward3.com
SUMMARY:Workday in the Ward
DESCRIPTION:Workday in the Ward will be held at the Palisades Farmers Market\, located at 48th Place and MacArthur Blvd NW\, on Sunday\, April 27\, from 9:00 am to 1:00 pm. Come by the farmers market to meet with Councilmember Frumin and members of the Ward 3 office staff to discuss legislation\, constituent services\, and more.
URL:https://mattfruminward3.com/event/workday-in-the-ward/
LOCATION:Palisades Farmers Market\, Palisades Farmers Market
CATEGORIES:Workday in the Ward
ATTACH;FMTTYPE=image/png:https://mattfruminward3.com/wp-content/uploads/2025/04/Copy-of-Workday-in-the-Ward-6.png
END:VEVENT
END:VCALENDAR